BEGIN:VCALENDAR
VERSION:2.0
PRODID:-//immoClub33 - ECPv6.8.3//NONSGML v1.0//EN
CALSCALE:GREGORIAN
METHOD:PUBLISH
X-WR-CALNAME:immoClub33
X-ORIGINAL-URL:https://immoclub33.ch
X-WR-CALDESC:Events for immoClub33
REFRESH-INTERVAL;VALUE=DURATION:PT1H
X-Robots-Tag:noindex
X-PUBLISHED-TTL:PT1H
BEGIN:VTIMEZONE
TZID:Europe/Zurich
BEGIN:DAYLIGHT
TZOFFSETFROM:+0100
TZOFFSETTO:+0200
TZNAME:CEST
DTSTART:20250330T010000
END:DAYLIGHT
BEGIN:STANDARD
TZOFFSETFROM:+0200
TZOFFSETTO:+0100
TZNAME:CET
DTSTART:20251026T010000
END:STANDARD
END:VTIMEZONE
BEGIN:VEVENT
DTSTART;TZID=Europe/Zurich:20251023T130000
DTEND;TZID=Europe/Zurich:20251023T180000
DTSTAMP:20260420T203222
CREATED:20240912T070225Z
LAST-MODIFIED:20250528T090827Z
UID:2847-1761224400-1761242400@immoclub33.ch
SUMMARY:106. immoTable Ticino
DESCRIPTION:ImmoTable ist eine Eventreihe\, die jährlich vier bis sechs Veranstaltungen durchführt und eine Plattform für den Austausch in der Schweizer Bau- und Immobilienbranche bietet. Dabei werden die Vorteile von Wirtschaftsregionen sowie interessante Projekte im Hochbau und Arealnutzungen vorgestellt\, um den Business-to-Business-Austausch zu fördern.Ticket anfragen
URL:https://immoclub33.ch/veranstaltung/106-immotable-romandie/
CATEGORIES:immoTable
ATTACH;FMTTYPE=image/jpeg:https://immoclub33.ch/wp-content/uploads/2024/09/immoClub33_Event_immoTable.jpg
END:VEVENT
BEGIN:VEVENT
DTSTART;TZID=Europe/Zurich:20251030T113000
DTEND;TZID=Europe/Zurich:20251030T150000
DTSTAMP:20260420T203222
CREATED:20240911T084505Z
LAST-MODIFIED:20251029T103310Z
UID:2807-1761823800-1761836400@immoclub33.ch
SUMMARY:Clubessen #8 - immoClub33
DESCRIPTION:Die genaue Location wird kurz vor dem Clubessen bekannt gegeben\, damit wir immer die besten und exklusivsten Orte für unsere Mitglieder wählen können.
URL:https://immoclub33.ch/veranstaltung/clubessen-8/
CATEGORIES:Clubessen
ATTACH;FMTTYPE=image/jpeg:https://immoclub33.ch/wp-content/uploads/2024/09/immoClub33_Event_Clubessen_Neu.jpg
END:VEVENT
END:VCALENDAR