BEGIN:VCALENDAR
VERSION:2.0
PRODID:-//immoClub33 - ECPv6.8.3//NONSGML v1.0//EN
CALSCALE:GREGORIAN
METHOD:PUBLISH
X-WR-CALNAME:immoClub33
X-ORIGINAL-URL:https://immoclub33.ch
X-WR-CALDESC:Events for immoClub33
REFRESH-INTERVAL;VALUE=DURATION:PT1H
X-Robots-Tag:noindex
X-PUBLISHED-TTL:PT1H
BEGIN:VTIMEZONE
TZID:Europe/Zurich
BEGIN:DAYLIGHT
TZOFFSETFROM:+0100
TZOFFSETTO:+0200
TZNAME:CEST
DTSTART:20260329T010000
END:DAYLIGHT
BEGIN:STANDARD
TZOFFSETFROM:+0200
TZOFFSETTO:+0100
TZNAME:CET
DTSTART:20261025T010000
END:STANDARD
END:VTIMEZONE
BEGIN:VEVENT
DTSTART;TZID=Europe/Zurich:20260924T113000
DTEND;TZID=Europe/Zurich:20260924T140000
DTSTAMP:20260424T153515
CREATED:20250911T143352Z
LAST-MODIFIED:20260305T105735Z
UID:3134-1790249400-1790258400@immoclub33.ch
SUMMARY:Clubessen #15 – immoClub33
DESCRIPTION:110. immoTable Luzern  Der ImmoTable ist eine Eventreihe für die Schweizer Bau- und Immobilienbranche. Vier- bis sechsmal jährlich bietet er eine Plattform für Austausch\, Inspiration und spannende Einblicke in Projekte\, Trends und Chancen der Immobilienwelt. Ab sofort wird auch das Clubessen im Rahmen des ImmoTable stattfinden – ein einzigartiges Zusammenspiel aus Networking\, Impulsen und kulinarischem Erlebnis.
URL:https://immoclub33.ch/veranstaltung/clubessen-15-immoclub33/
CATEGORIES:immoTable
ATTACH;FMTTYPE=image/jpeg:https://immoclub33.ch/wp-content/uploads/2024/09/immoClub33_Event_immoTable.jpg
END:VEVENT
END:VCALENDAR